BEGIN:VCALENDAR
VERSION:2.0
PRODID:-//SVP Sigriswil //NONSGML Events //EN
CALSCALE:GREGORIAN
X-WR-CALNAME:SVP Sigriswil
BEGIN:VEVENT
CREATED:20260422T073018Z
UID:866
DTEND:20260908T210000
DTSTART:20260908T200000
DTSTAMP:20260422T131028Z
LOCATION:
DESCRIPTION:
SUMMARY:Parteiversammlung SVP Sektion Sigriswil
ORGANIZER:
URL;VALUE=URI:https://www.svp-sigriswil.ch/termine/parteiversammlung-svp-sektion-sigriswil-2/
TRANSP:OPAQUE
END:VEVENT
END:VCALENDAR
