BEGIN:VCALENDAR
VERSION:2.0
PRODID:-//SVP Sigriswil //NONSGML Events //EN
CALSCALE:GREGORIAN
X-WR-CALNAME:SVP Sigriswil
BEGIN:VEVENT
CREATED:20260422T073056Z
UID:868
DTEND:20261120T000000
DTSTART:20261120T000000
DTSTAMP:20260422T130917Z
LOCATION:
DESCRIPTION:
SUMMARY:Parteiversammlung SVP Sektion Sigriswil
ORGANIZER:
URL;VALUE=URI:https://www.svp-sigriswil.ch/termine/parteiversammlung-svp-sektion-sigriswil-3/
TRANSP:OPAQUE
END:VEVENT
END:VCALENDAR
